Workbook
Name Ações: #REF!
Name Ações: #REF!
Name Ações: #REF!
Name Cancela: #REF!,#REF!
Name Cancela: #REF!,#REF!
Name Cancela: #REF!,#REF!
Name ClassPrevAtu: #REF!
Name ClassPrevAtu: #REF!
Name ClassPrevAtu: #REF!
Name ClassPrevInicial: #REF!
Name ClassPrevInicial: #REF!
Name ClassPrevInicial: #REF!
Name ClassRecAnt: #REF!
Name ClassRecAnt: #REF!
Name ClassRecAnt: #REF!
Name ClassRecBim: #REF!
Name ClassRecBim: #REF!
Name ClassRecNoBim: #REF!
Name ClassRecNoBim: #REF!
Name CritEx: #REF!
Name CritEx: #REF!
Name DespAcao: #REF!
Name DespAcao: #REF!
Name DespElem: #REF!
Name DespElem: #REF!
Name doExeAnt: #REF!
Name doExeAnt: #REF!
Name doExercicio: #REF!
Name doExercicio: #REF!
Name DotacaoAtualizada: #REF!
Name DotacaoAtualizada: #REF!
Name DotacaoInicial: #REF!
Name DotacaoInicial: #REF!
Name dsfrw: #REF!,#REF!
Name dsfrw: #REF!,#REF!
Name dsfrw: #REF!,#REF!
Name Elementos: #REF!
Name Elementos: #REF!
Name Elementos: #REF!
Name fdsafs: #REF!,#REF!
Name fdsafs: #REF!,#REF!
Name fdsafs: #REF!,#REF!
Name fdsf: #REF!
Name fdsf: #REF!
Name fdsf: #REF!
Name fhksjd: #REF!,#REF!
Name fhksjd: #REF!,#REF!
Name fhksjd: #REF!,#REF!
Name fsdfs: #REF!
Name fsdfs: #REF!
Name fsdfs: #REF!
Name LiqAteBimAnt: #REF!
Name LiqAteBimAnt: #REF!
Name LiqAteBimAnt: #REF!
Name LiqAteBimestre: #REF!
Name LiqAteBimestre: #REF!
Name LiqAteBimestre: #REF!
Name LiqNoBim: #REF!
Name LiqNoBim: #REF!
Name LiqNoBim: #REF!

Sheet Anexo 1 Pessoal União
A1: Tabela 1.2 - Demonstrativo da Despesa com Pessoal - União
A3: GOVERNO FEDERAL - PODER LEGISLATIVO
A4: SENADO FEDERAL
A5: RELATÓRIO DE GESTÃO FISCAL
A6: DEMONSTRATIVO DA DESPESA COM PESSOAL
A7: ORÇAMENTOS FISCAL E DA SEGURIDADE SOCIAL
A8: SETEMBRO DE 2025 A AGOSTO DE 2026
A10: RGF - ANEXO 1 (LRF, art. 55, inciso I, alínea "a") | O10: 1
A13: DESPESA COM PESSOAL | O13: INSCRITAS EM
B14: set/25 | C14: out/25 | D14: nov/25 | E14: dez/25 | F14: jan/26 | G14: fev/26 | H14: mar/26 | I14: abr/26 | J14: mai/26 | K14: jun/26 | L14: jul/26 | M14: ago/26 | N14: TOTAL | O14: RESTOS A PAGAR
N15: (ÚLTIMOS | O15: NÃO
F16: jan/26 | N16: 12 MESES) | O16: PROCESSADOS
N17: (a) | O17: (b)
A18: DESPESA BRUTA COM PESSOAL (I) | B18: =B19+B22+B25 -> 3.6457883e+08 | C18: =C19+C22+C25 -> 3.6717273e+08 | D18: =D19+D22+D25 -> 5.6167832e+08 | E18: =E19+E22+E25 -> 4.8527735e+08 | F18: =F19+F22+F25 -> 4.2188734e+08 | G18: =G19+G22+G25 -> 3.7732157e+08 | H18: =H19+H22+H25 -> 3.7613858e+08 | I18: =I19+I22+I25 -> 3.8692108e+08 | ... M18: =M19+M22+M25 -> 3.9719271e+08 | N18: =SUM(B18:M18) -> 5.0859299e+09 | O18: =O19+O22+O25 -> 6268604.6
A19: Pessoal Ativo | B19: =SUM(B20:B21) -> 1.6616123e+08 | C19: =SUM(C20:C21) -> 1.7053947e+08 | D19: =SUM(D20:D21) -> 2.6720908e+08 | E19: =SUM(E20:E21) -> 2.0767502e+08 | F19: =SUM(F20:F21) -> 2.1891248e+08 | G19: =SUM(G20:G21) -> 1.7397255e+08 | H19: =SUM(H20:H21) -> 1.7455202e+08 | I19: =SUM(I20:I21) -> 1.8120676e+08 | ... M19: =SUM(M20:M21) -> 1.9328021e+08 | N19: =SUM(B19:M19) -> 2.3891243e+09 | O19: =SUM(O20:O21) -> 2952721.4
A20: Vencimentos, Vantagens e Outras Despesas Variáveis | B20: 1.4131744e+08 | C20: 1.4524514e+08 | D20: 2.1744343e+08 | E20: 1.76354e+08 | F20: 190577016 | G20: 1.4844293e+08 | H20: 1.4881821e+08 | I20: 1.5438772e+08 | J20: 2.2926782e+08 | K20: 1.5796147e+08 | L20: 1.6614392e+08 | M20: 1.6559877e+08 | N20: =SUM(B20:M20) -> 2.0415579e+09 | O20: 2827099.4
A21: Obrigações Patronais | B21: 24843794 | C21: 25294330 | D21: 49765655 | E21: 31321019 | F21: 28335464 | G21: 25529625 | H21: 25733810 | I21: 26819035 | J21: 27206239 | K21: 27329255 | L21: 27706793 | M21: 27681443 | N21: =SUM(B21:M21) -> 3.4756646e+08 | O21: 125622.05
A22: Pessoal Inativo e Pensionistas | B22: =SUM(B23:B24) -> 1.9841759e+08 | C22: =SUM(C23:C24) -> 1.9663326e+08 | D22: =SUM(D23:D24) -> 2.9446924e+08 | E22: =SUM(E23:E24) -> 2.7760233e+08 | F22: =SUM(F23:F24) -> 2.0297486e+08 | G22: =SUM(G23:G24) -> 2.0334902e+08 | H22: =SUM(H23:H24) -> 2.0158657e+08 | I22: =SUM(I23:I24) -> 2.0571433e+08 | ... M22: =SUM(M23:M24) -> 2.039125e+08 | N22: =SUM(B22:M22) -> 2.6968056e+09 | O22: =SUM(O23:O26) -> 3315883.2
A23: Aposentadorias, Reserva e Reformas | B23: 1.5534478e+08 | C23: 1.5348723e+08 | D23: 2.2972918e+08 | E23: 2.3005975e+08 | F23: 158687177 | G23: 1.5900714e+08 | H23: 1.5705081e+08 | I23: 1.5986745e+08 | J23: 2.3368019e+08 | K23: 1.629715e+08 | L23: 1.5914668e+08 | M23: 1.5873503e+08 | N23: =SUM(B23:M23) -> 2.1177669e+09 | O23: 0
A24: Pensões | B24: 43072815 | C24: 43146029 | D24: 64740063 | E24: 47542577 | F24: 44287684 | G24: 44341880 | H24: 44535752 | I24: 45846882 | J24: 63799712 | K24: 46866810 | L24: 45681016 | M24: 45177475 | N24: =SUM(B24:M24) -> 5.790387e+08 | O24: 3315883.2
A25: Outras despesas de pessoal decorrentes de contratos de terceirização ou de contratação de forma indireta (§ 1º do art. 18 da LRF)
A26: Despesa com Pessoal não Executada Orçamentariamente
A27: DESPESAS NÃO COMPUTADAS (II) (§ 1º do art. 19 da LRF) | B27: =SUM(B28:B31) -> 2352169.2 | C27: =SUM(C28:C31) -> 1600110.6 | D27: =SUM(D28:D31) -> 2190821 | E27: =SUM(E28:E31) -> 82961065 | F27: =SUM(F28:F31) -> 3284920.5 | G27: =SUM(G28:G31) -> 4775868.5 | H27: =SUM(H28:H31) -> 2665425.5 | I27: =SUM(I28:I31) -> 2470125.3 | ... M27: =SUM(M28:M31) -> 2556032.8 | N27: =SUM(B27:M27) -> 3.8705739e+08 | O27: =SUM(O28:O31) -> 3315883.2
A28: Indenizações por Demissão e Incentivos à Demissão Voluntária | B28: 979359.82 | C28: 1023938.5 | D28: 619723.9 | E28: 1012574.3 | F28: 185236.4 | G28: 878756.54 | H28: 958082 | I28: 1148036 | J28: 1382749.7 | K28: 643575.61 | L28: 2460539.1 | M28: 2012266.1 | N28: =SUM(B28:M28) -> 13304838 | O28: 0
A29: Decorrentes de Decisão Judicial de período anterior ao da apuração | N29: =SUM(B29:M29) -> 0 | O29: 0
A30: Despesas de Exercícios Anteriores de período anterior ao da apuração | B30: 1372809.4 | C30: 576172.11 | D30: 1571097.1 | E30: 81948491 | F30: 3099684.1 | G30: 3897111.9 | H30: 1707343.5 | I30: 1322089.3 | J30: 880859.91 | K30: 1532854.1 | L30: 182286.03 | M30: 543766.72 | N30: =SUM(B30:M30) -> 98634565 | O30: 3315883.2
A31: Inativos e Pensionistas com Recursos Vinculados | J31: 1.1445401e+08 | K31: 1.1286398e+08 | L31: 47800000 | N31: =SUM(B31:M31) -> 2.7511798e+08 | O31: 0
A32: DESPESA LÍQUIDA COM PESSOAL (III) = (I - II) | B32: =B18-B27 -> 3.6222666e+08 | C32: =C18-C27 -> 3.6557262e+08 | D32: =D18-D27 -> 5.594875e+08 | E32: =E18-E27 -> 4.0231628e+08 | F32: =F18-F27 -> 4.1860242e+08 | G32: =G18-G27 -> 3.725457e+08 | H32: =H18-H27 -> 3.7347316e+08 | I32: =I18-I27 -> 3.8445096e+08 | ... O32: =O18-O27 -> 2952721.4
A34: APURAÇÃO DO CUMPRIMENTO DO LIMITE LEGAL | E34: % SOBRE A RCL
A35: RECEITA CORRENTE LÍQUIDA - RCL (IV) | D35: 1619262389000 | E35: -
A36: DESPESA TOTAL COM PESSOAL - DTP (V) = (III a + III b) | D36: =N32+O32 -> 4.7018253e+09 | E36: =D36/D35 -> 0.0029036834
A37: LIMITE MÁXIMO (VI) (incisos I, II e III, art. 20 da LRF) | D37: =D35*E37 -> 1.3925657e+10 | E37: 0.0086
A38: LIMITE PRUDENCIAL (VII) = (0,95 x VI) (parágrafo único do art. 22 da LRF) | D38: =D35*E38 -> 1.3229374e+10 | E38: =E37*0.95 -> 0.00817
A39: LIMITE DE ALERTA (VIII) = (0,90 x VI) (inciso II do §1º do art. 59 da LRF) | D39: =D35*E39 -> 1.2533091e+10 | E39: =E37*0.9 -> 0.00774
A40: FONTE: SIAFI, Senado Federal, 15/09/2026 09:00
A41: 1. Nos demonstrativos elaborados no primeiro e no segundo quadrimestre de cada exercício, os valores de restos a pagar não processados inscritos em 31 de dezembro do exercício anterior continuarão a ser informados nesse campo. Esses valores não sofrem alteração pelo seu processamento, e somente no caso de cancelamento podem ser excluídos.
A42: NOTA:
A46: FERNANDO ÁLVARO LEÃO RINCON ANDRE LUIS SOARES DA PAIXÃO
A47: Diretor da Secretaria de Finanças, Orçamento e Contabilidade Auditor-Geral
A52: MARCIO TANCREDI
...

Sheet Anexo 5 - Disp e RP Out Po
A1: Tabela 5.2 – Demonstrativo da Disponibilidade de Caixa e dos Restos a Pagar - Outros Poderes e Órgãos
A3: GOVERNO FEDERAL - PODER LEGISLATIVO
A4: SENADO FEDERAL
A5: RELATÓRIO DE GESTÃO FISCAL
A6: DEMONSTRATIVO DA DISPONIBILIDADE DE CAIXA E DOS RESTOS A PAGAR
A7: ORÇAMENTOS FISCAL E DA SEGURIDADE SOCIAL
A8: JANEIRO A DEZEMBRO/2025
A10: RGF – ANEXO 5 (LRF, art. 55, Inciso III, alínea "a") | J10: 1
A11: IDENTIFICAÇÃO DOS RECURSOS | B11: DISPONIBILIDADE DE CAIXA BRUTA | C11: OBRIGAÇÕES FINANCEIRAS | G11: DISPONIBILIDADE DE CAIXA LÍQUIDA (ANTES DA INSCRIÇÃO EM RESTOS A PAGAR NÃO PROCESSADOS DO EXERCÍCIO)1 | H11: RESTOS A PAGAR EMPENHADOS E NÃO LIQUIDADOS DO EXERCÍCIO | I11: EMPENHOS NÃO LIQUIDADOS CANCELADOS (NÃO INSCRITOS POR INSUFICIÊNCIA FINANCEIRA) | J11: DISPONIBILIDADE DE CAIXA LÍQUIDA (APÓS A INSCRIÇÃO EM RESTOS A PAGAR NÃO PROCESSADOS DO EXERCÍCIO)
C12: Restos a Pagar Liquidados e Não Pagos | E12: Restos a Pagar Empenhados e Não Liquidados de Exercícios Anteriores | F12: Demais Obrigaçãoes Financeiras
C13: De Exercícios Anteriores | D13: Do Exercício
B14: (a) | C14: (b) | D14: (c) | E14: (d) | F14: (e) | G14: (f) = (a – (b + c + d + e)) | H14: (g) | J14: (h) = (f - g)
A15: TOTAL DOS RECURSOS NÃO VINCULADOS (I) | B15: =SUM(B16) -> 9.2869738e+08 | C15: =SUM(C16) -> 7093845 | D15: =SUM(D16) -> 13880898 | E15: =SUM(E16) -> 45762480 | F15: =SUM(F16) -> 7915303.2 | G15: =SUM(G16) -> 8.5404485e+08 | H15: =SUM(H16) -> 2.3950927e+08 | I15: =SUM(I16) -> 0 | J15: =SUM(J16) -> 6.1453559e+08
A16: Fonte 000 - Recursos Livre da União | B16: 9.2869738e+08 | C16: 7093845 | D16: 13880898 | E16: 45762480 | F16: 7915303.2 | G16: 8.5404485e+08 | H16: 2.3950927e+08 | I16: 0 | J16: =G16-H16 -> 6.1453559e+08
A17: TOTAL DOS RECURSOS VINCULADOS (II) | B17: =SUM(B18:B26) -> 3.7200782e+08 | C17: =SUM(C18:C26) -> 90933.6 | D17: =SUM(D18:D26) -> 26140.61 | E17: =SUM(E18:E26) -> 84769.97 | F17: =SUM(F18:F26) -> 64360812 | G17: =SUM(G18:G26) -> 3.0744516e+08 | H17: =SUM(H18:H26) -> 3616661.4 | I17: =SUM(I18:I26) -> 0 | J17: =SUM(J18:J26) -> 3.038285e+08
A18: Recursos Vinculados à Seguridade Social | B18: 52320031 | C18: 28361.66 | G18: 52291669 | H18: 130811.21 | J18: =G18-H18 -> 52160858
A19: Recursos Vinculados à Previdência Social | B19: 131308.02 | C19: 1016.69 | F19: 54128.76 | G19: 76162.57 | J19: =G19-H19 -> 76162.57
A20: Recursos Vinculados a Fundos | B20: 2.5524979e+08 | C20: 61555.25 | D20: 26140.61 | E20: 84769.97 | G20: 2.5507733e+08 | H20: 3485850.2 | J20: =G20-H20 -> 2.5159148e+08
A21: Recursos de Operações de Crédito | J21: =G21-H21 -> 0
A22: Recursos de Alienação de Bens/Ativos | J22: =G22-H22 -> 0
A23: Recusos Extraorçamentários Vinculados a Precatórios | J23: =G23-H23 -> 0
A24: Recursos Extraorçamentários Vinculados a Depósitos Judiciais | J24: =G24-H24 -> 0
A25: Outros Recursos Extraorçamentários | B25: 64306684 | F25: 64306684 | J25: =G25-H25 -> 0
A26: Outros Recursos Vinculados | J26: =G26-H26 -> 0
A27: TOTAL (III) = (I + II) | B27: =B17+B15 -> 1.3007052e+09 | C27: =C17+C15 -> 7184778.6 | D27: =D17+D15 -> 13907039 | E27: =E17+E15 -> 45847250 | F27: =F17+F15 -> 72276116 | G27: =G17+G15 -> 1.16149e+09 | H27: =H17+H15 -> 2.4312593e+08 | I27: =I17+I15 -> 0 | J27: =J17+J15 -> 9.1836409e+08
A28: FONTE: SIAFI, Senado Federal, 15/01/2026 07:00
A29: NOTA:
A30: 1. Essa coluna poderá apresentar valor negativo, indicando, nesse caso, insuficiência de caixa após o registro das obrigações financeiras.
A34: RAFAEL FERREIRA DOS SANTOS PRESTES DAVID AMARAL SANTOS
A35: Diretor da Secretaria de Finanças, Orçamento e Contabilidade- Substituto Auditor-Geral-Substituto
A40: MARCIO TANCREDI
A41: Diretora-Geral-Substituto

Sheet Anexo 6 - Simpl. Outros Poderes
A1: Tabela 6.2 - Demonstrativo Simplificado do Relatório de Gestão Fiscal - OUTROS PODERES E ÓRGÃOS
A3: GOVERNO FEDERAL - PODER LEGISLATIVO
A4: SENADO FEDERAL
A5: RELATÓRIO DE GESTÃO FISCAL
A6: DEMONSTRATIVO SIMPLIFICADO DO RELATÓRIO DE GESTÃO FISCAL
A7: ORÇAMENTOS FISCAL E DA SEGURIDADE SOCIAL
A8: JANEIRO A DEZEMBRO/2025
A10: LRF, art. 48 - Anexo 6 | C10: 1
A11: RECEITA CORRENTE LÍQUIDA | B11: VALOR ATÉ O QUADRIMESTRE
A12: Receita Corrente líquida | B12: ='Anexo 1 Pessoal União'!D35 -> 1619262389000
A14: DESPESA COM PESSOAL | B14: VALOR | C14: % SOBRE A RCL
A15: Despesa Total com Pessoal - DTP | B15: ='Anexo 1 Pessoal União'!D36 -> 4.7018253e+09 | C15: =B15/B12 -> 0.0029036834
A16: Limite Máximo (incisos I, II e III, art. 20 da LRF) - <%> | B16: ='Anexo 1 Pessoal União'!D37 -> 1.3925657e+10 | C16: 0.0086
A17: Limite Prudencial (parágrafo único, art. 22 da LRF) - <%> | B17: ='Anexo 1 Pessoal União'!D38 -> 1.3229374e+10 | C17: 0.00817
A18: Limite de Alerta (inciso II do §1º do art. 59 da LRF) - <%> | B18: ='Anexo 1 Pessoal União'!D39 -> 1.2533091e+10 | C18: 0.00774
A20: RESTOS A PAGAR | B20: RESTOS A PAGAR EMPENHADOS E NÃO LIQUIDADOS DO EXERCÍCIO | C20: DISPONIBILIDADE DE CAIXA LÍQUIDA (APÓS A INSCRIÇÃO EM RESTOS A PAGAR NÃO PROCESSADOS DO EXERCÍCIO)
C21: EM RESTOS A PAGAR NÃO PROCESSADOS
A22: Valor Total | B22: ='Anexo 5 - Disp e RP Out Po'!H27 -> 2.4312593e+08 | C22: ='Anexo 5 - Disp e RP Out Po'!J27 -> 9.1836409e+08
A23: FONTE: SIAFI, Senado Federal, 15/01/2025 10:00
A28: RAFAEL FERREIRA DOS SANTOS PRESTES DAVID AMARAL SANTOS
A29: Diretor da Secretaria de Finanças, Orçamento e Contabilidade- Substituto Auditor-Geral-Substituto
A34: MARCIO TANCREDI
A35: Diretora-Geral-Substituto
